BEGIN:VCALENDAR
VERSION:2.0
PRODID:-//jEvents 2.0 for Joomla//EN
CALSCALE:GREGORIAN
METHOD:PUBLISH
BEGIN:VTIMEZONE
TZID:Asia/Kuala_Lumpur
BEGIN:STANDARD
DTSTART:20140426T080000
RDATE:20380119T111407
TZOFFSETFROM:+0800
TZOFFSETTO:+0800
TZNAME:Asia/Kuala_Lumpur +08
END:STANDARD
END:VTIMEZONE
BEGIN:VEVENT
UID:596784ddd858af5380413663b1a58ac3
CATEGORIES:Oil & Gas
SUMMARY:East Africa Oil & Gas Expo 2015
LOCATION:Nairobi, Kenya
DESCRIPTION;ENCODING=QUOTED-PRINTABLE:
DTSTAMP:20260421T130442Z
DTSTART;TZID=Asia/Kuala_Lumpur:20150427T080000
DTEND;TZID=Asia/Kuala_Lumpur:20150429T170000
SEQUENCE:0
TRANSP:OPAQUE
END:VEVENT
END:VCALENDAR