BEGIN:VCALENDAR
VERSION:2.0
PRODID:-//jEvents 2.0 for Joomla//EN
CALSCALE:GREGORIAN
METHOD:PUBLISH
BEGIN:VTIMEZONE
TZID:Asia/Kuala_Lumpur
BEGIN:STANDARD
DTSTART:20140420T080000
RDATE:20380119T111407
TZOFFSETFROM:+0800
TZOFFSETTO:+0800
TZNAME:Asia/Kuala_Lumpur +08
END:STANDARD
END:VTIMEZONE
BEGIN:VEVENT
UID:df46cf0cf769a445411edff612636153
CATEGORIES:Oil & Gas
SUMMARY:Arab Oil & Gas Show (OGS)
LOCATION:Dubai, UAE
DESCRIPTION;ENCODING=QUOTED-PRINTABLE:
DTSTAMP:20260421T144033Z
DTSTART;TZID=Asia/Kuala_Lumpur:20150421T080000
DTEND;TZID=Asia/Kuala_Lumpur:20150423T170000
SEQUENCE:0
TRANSP:OPAQUE
END:VEVENT
END:VCALENDAR