BEGIN:VCALENDAR
VERSION:2.0
PRODID:-//jEvents 2.0 for Joomla//EN
CALSCALE:GREGORIAN
METHOD:PUBLISH
BEGIN:VTIMEZONE
TZID:Asia/Kuala_Lumpur
BEGIN:STANDARD
DTSTART:20130224T000000
RDATE:20380119T111407
TZOFFSETFROM:+0800
TZOFFSETTO:+0800
TZNAME:Asia/Kuala_Lumpur +08
END:STANDARD
END:VTIMEZONE
BEGIN:VEVENT
UID:fa73e401605c631050d34ac23f8adbd4
CATEGORIES:Oil & Gas
SUMMARY:Myanmar Oil & Gas
LOCATION:Traders Hotel, Yangon, Myanmar
DESCRIPTION;ENCODING=QUOTED-PRINTABLE:            Myanmar Oil & Gas 2014\n\n  \n\n\nThe exhibit profile concentra
 tes on supporting the immediate needs of the market, as well as looking to 
 its next stage of developments. Be one of the companies and join this oppor
 tunity. There is limited space, so we advise you to book soon.\n
X-EXTRAINFO:ORGANIZER: ECMI-ITE Asia S/B
DTSTAMP:20260421T143723Z
DTSTART;TZID=Asia/Kuala_Lumpur;VALUE=DATE:20140225
DTEND;TZID=Asia/Kuala_Lumpur;VALUE=DATE:20140227
SEQUENCE:0
TRANSP:OPAQUE
END:VEVENT
END:VCALENDAR