BEGIN:VCALENDAR
VERSION:2.0
PRODID:-//jEvents 2.0 for Joomla//EN
CALSCALE:GREGORIAN
METHOD:PUBLISH
BEGIN:VTIMEZONE
TZID:Asia/Kuala_Lumpur
BEGIN:STANDARD
DTSTART:20140328T080000
RDATE:20380119T111407
TZOFFSETFROM:+0800
TZOFFSETTO:+0800
TZNAME:Asia/Kuala_Lumpur +08
END:STANDARD
END:VTIMEZONE
BEGIN:VEVENT
UID:e0ba0fa6ef81896246af7bc7621dd26d
CATEGORIES:Oil & Gas
SUMMARY:Advantage 2015: The New Zealand Petroleum Summit
LOCATION:Auckland, NZ
DESCRIPTION;ENCODING=QUOTED-PRINTABLE:
DTSTAMP:20260421T130442Z
DTSTART;TZID=Asia/Kuala_Lumpur:20150329T080000
DTEND;TZID=Asia/Kuala_Lumpur:20150331T170000
SEQUENCE:0
TRANSP:OPAQUE
END:VEVENT
END:VCALENDAR