BEGIN:VCALENDAR
VERSION:2.0
PRODID:-//jEvents 2.0 for Joomla//EN
CALSCALE:GREGORIAN
METHOD:PUBLISH
BEGIN:VTIMEZONE
TZID:Asia/Kuala_Lumpur
BEGIN:STANDARD
DTSTART:20140317T000000
RDATE:20380119T111407
TZOFFSETFROM:+0800
TZOFFSETTO:+0800
TZNAME:Asia/Kuala_Lumpur +08
END:STANDARD
END:VTIMEZONE
BEGIN:VEVENT
UID:00d31ec9faf70826548fe2ec7abc4eb7
CATEGORIES:Oil & Gas
SUMMARY:Turkish International Oil & Gas Conference 
LOCATION:Ankara, Turkey
DESCRIPTION;ENCODING=QUOTED-PRINTABLE:\n\n \n\n\n \n
DTSTAMP:20260421T130038Z
DTSTART;TZID=Asia/Kuala_Lumpur;VALUE=DATE:20150318
DTEND;TZID=Asia/Kuala_Lumpur;VALUE=DATE:20150320
SEQUENCE:0
TRANSP:OPAQUE
END:VEVENT
END:VCALENDAR