BEGIN:VCALENDAR
VERSION:2.0
PRODID:-//jEvents 2.0 for Joomla//EN
CALSCALE:GREGORIAN
METHOD:PUBLISH
BEGIN:VTIMEZONE
TZID:Asia/Kuala_Lumpur
BEGIN:STANDARD
DTSTART:20140315T000000
RDATE:20380119T111407
TZOFFSETFROM:+0800
TZOFFSETTO:+0800
TZNAME:Asia/Kuala_Lumpur +08
END:STANDARD
END:VTIMEZONE
BEGIN:VEVENT
UID:7e7f8e114b226e2304694acb0f73a7c6
CATEGORIES:Oil & Gas
SUMMARY:Oman Refining & Petrochemical Exhibition & Conference (ORPEC)
LOCATION:Muscat, Oman
DESCRIPTION;ENCODING=QUOTED-PRINTABLE:\n\n \n\n\n \n
DTSTAMP:20260421T125930Z
DTSTART;TZID=Asia/Kuala_Lumpur;VALUE=DATE:20150316
DTEND;TZID=Asia/Kuala_Lumpur;VALUE=DATE:20150319
SEQUENCE:0
TRANSP:OPAQUE
END:VEVENT
END:VCALENDAR