BEGIN:VCALENDAR
VERSION:2.0
PRODID:-//jEvents 2.0 for Joomla//EN
CALSCALE:GREGORIAN
METHOD:PUBLISH
BEGIN:VTIMEZONE
TZID:Asia/Kuala_Lumpur
BEGIN:STANDARD
DTSTART:20140308T000000
RDATE:20380119T111407
TZOFFSETFROM:+0800
TZOFFSETTO:+0800
TZNAME:Asia/Kuala_Lumpur +08
END:STANDARD
END:VTIMEZONE
BEGIN:VEVENT
UID:022606fea01c4a266f1e8916f325a5ba
CATEGORIES:Oil & Gas
SUMMARY:AOG 2015 -Australasian Oil and Gas Exhibition & Conference
LOCATION:Perth, Australia
DESCRIPTION;ENCODING=QUOTED-PRINTABLE:\n\n \n\n\n \n
DTSTAMP:20260421T130036Z
DTSTART;TZID=Asia/Kuala_Lumpur;VALUE=DATE:20150309
DTEND;TZID=Asia/Kuala_Lumpur;VALUE=DATE:20150312
SEQUENCE:0
TRANSP:OPAQUE
END:VEVENT
END:VCALENDAR