BEGIN:VCALENDAR
VERSION:2.0
PRODID:-//jEvents 2.0 for Joomla//EN
CALSCALE:GREGORIAN
METHOD:PUBLISH
BEGIN:VTIMEZONE
TZID:Asia/Kuala_Lumpur
BEGIN:STANDARD
DTSTART:20140302T000000
RDATE:20380119T111407
TZOFFSETFROM:+0800
TZOFFSETTO:+0800
TZNAME:Asia/Kuala_Lumpur +08
END:STANDARD
END:VTIMEZONE
BEGIN:VEVENT
UID:9b27c111d037a964e8da4546114c288c
CATEGORIES:Oil & Gas
SUMMARY:Hassi Messaoud Products and Services Suppliers Exhibition
LOCATION:Alger, Algérie
DESCRIPTION;ENCODING=QUOTED-PRINTABLE:\n\n \n\n\n \n
DTSTAMP:20260421T171408Z
DTSTART;TZID=Asia/Kuala_Lumpur;VALUE=DATE:20150303
DTEND;TZID=Asia/Kuala_Lumpur;VALUE=DATE:20150307
SEQUENCE:0
TRANSP:OPAQUE
END:VEVENT
END:VCALENDAR