BEGIN:VCALENDAR
VERSION:2.0
PRODID:-//jEvents 2.0 for Joomla//EN
CALSCALE:GREGORIAN
METHOD:PUBLISH
BEGIN:VTIMEZONE
TZID:Asia/Kuala_Lumpur
BEGIN:STANDARD
DTSTART:20131208T000000
RDATE:20380119T111407
TZOFFSETFROM:+0800
TZOFFSETTO:+0800
TZNAME:Asia/Kuala_Lumpur +08
END:STANDARD
END:VTIMEZONE
BEGIN:VEVENT
UID:d4574f40706b6849a077ae0def875879
CATEGORIES:Oil & Gas
SUMMARY:Offshore Development Oman 2014
LOCATION:Al Bustan Palace, Muscat, Oman
DESCRIPTION;ENCODING=QUOTED-PRINTABLE:\n\n With the Sultanate’s offshore industry rapidly growing, Offshore Devel
 opment Oman 2014 will play an important role in the expanding market and pr
 ovides a conference dedicated to the advancement of the offshore industry, 
 whilst addressing technological challenges associated with safely and cost 
 effectively developing oil and gas resources. Offshore Development Oman 201
 4 will look at requirements, design, engineering and construction, operatio
 n and maintenance, risk and safety associated with the various types for of
 fshore platforms for the region. With unique challenges of each of these fi
 elds this event will look at the best platform to support the requirements 
 of the field, and the engineering and technological requirements to establi
 sh and operate.\n
DTSTAMP:20260421T143032Z
DTSTART;TZID=Asia/Kuala_Lumpur;VALUE=DATE:20141209
DTEND;TZID=Asia/Kuala_Lumpur;VALUE=DATE:20141211
SEQUENCE:0
TRANSP:OPAQUE
END:VEVENT
END:VCALENDAR