BEGIN:VCALENDAR
VERSION:2.0
PRODID:-//jEvents 2.0 for Joomla//EN
CALSCALE:GREGORIAN
METHOD:PUBLISH
BEGIN:VTIMEZONE
TZID:Asia/Kuala_Lumpur
BEGIN:STANDARD
DTSTART:20240617T080000
RDATE:20380119T111407
TZOFFSETFROM:+0800
TZOFFSETTO:+0800
TZNAME:Asia/Kuala_Lumpur +08
END:STANDARD
END:VTIMEZONE
BEGIN:VEVENT
UID:9bce156b281deda86ab192705d8b8e94
CATEGORIES:Energy
SUMMARY:Japan Energy Summit 2025 
LOCATION:Tokyo, Japan
DESCRIPTION;ENCODING=QUOTED-PRINTABLE:
DTSTAMP:20260421T111248Z
DTSTART;TZID=Asia/Kuala_Lumpur:20250618T080000
DTEND;TZID=Asia/Kuala_Lumpur:20250620T170000
SEQUENCE:0
TRANSP:OPAQUE
END:VEVENT
END:VCALENDAR