BEGIN:VCALENDAR
VERSION:2.0
PRODID:-//jEvents 2.0 for Joomla//EN
CALSCALE:GREGORIAN
METHOD:PUBLISH
BEGIN:VTIMEZONE
TZID:Asia/Kuala_Lumpur
BEGIN:STANDARD
DTSTART:20241014T080000
RDATE:20380119T111407
TZOFFSETFROM:+0800
TZOFFSETTO:+0800
TZNAME:Asia/Kuala_Lumpur +08
END:STANDARD
END:VTIMEZONE
BEGIN:VEVENT
UID:ad83461dd042bee5befbf988b8afa52e
CATEGORIES:Renewable Energy
SUMMARY:CETA 2025
LOCATION:Kuala Lumpur, Malaysia
DESCRIPTION;ENCODING=QUOTED-PRINTABLE:
DTSTAMP:20260421T111250Z
DTSTART;TZID=Asia/Kuala_Lumpur:20251015T080000
DTEND;TZID=Asia/Kuala_Lumpur:20251017T170000
SEQUENCE:0
TRANSP:OPAQUE
END:VEVENT
END:VCALENDAR