BEGIN:VCALENDAR
VERSION:2.0
PRODID:-//jEvents 2.0 for Joomla//EN
CALSCALE:GREGORIAN
METHOD:PUBLISH
BEGIN:VTIMEZONE
TZID:Asia/Kuala_Lumpur
BEGIN:STANDARD
DTSTART:20240908T080000
RDATE:20380119T111407
TZOFFSETFROM:+0800
TZOFFSETTO:+0800
TZNAME:Asia/Kuala_Lumpur +08
END:STANDARD
END:VTIMEZONE
BEGIN:VEVENT
UID:afe8f0a8a589c8fb4138f8679d00ff7d
CATEGORIES:Energy
SUMMARY:Enlit Aisa 2025
LOCATION:Bangkok, Thailand
DESCRIPTION;ENCODING=QUOTED-PRINTABLE:
CONTACT:FREE MAP DISTRIBUTION
DTSTAMP:20260421T123528Z
DTSTART;TZID=Asia/Kuala_Lumpur:20250909T080000
DTEND;TZID=Asia/Kuala_Lumpur:20250911T170000
SEQUENCE:0
TRANSP:OPAQUE
END:VEVENT
END:VCALENDAR