BEGIN:VCALENDAR
VERSION:2.0
PRODID:-//jEvents 2.0 for Joomla//EN
CALSCALE:GREGORIAN
METHOD:PUBLISH
BEGIN:VTIMEZONE
TZID:Asia/Kuala_Lumpur
BEGIN:STANDARD
DTSTART:20240901T080000
RDATE:20380119T111407
TZOFFSETFROM:+0800
TZOFFSETTO:+0800
TZNAME:Asia/Kuala_Lumpur +08
END:STANDARD
END:VTIMEZONE
BEGIN:VEVENT
UID:b88fae912d5220422b1b04fb93b9e7cc
CATEGORIES:Oil & Gas
SUMMARY:OGA 2025
LOCATION:Kuala Lumpur, Malaysia
DESCRIPTION;ENCODING=QUOTED-PRINTABLE:
CONTACT:FREE MAP DISTRIBUTION
DTSTAMP:20260421T123423Z
DTSTART;TZID=Asia/Kuala_Lumpur:20250902T080000
DTEND;TZID=Asia/Kuala_Lumpur:20250904T170000
SEQUENCE:0
TRANSP:OPAQUE
END:VEVENT
END:VCALENDAR