BEGIN:VCALENDAR
VERSION:2.0
PRODID:-//jEvents 2.0 for Joomla//EN
CALSCALE:GREGORIAN
METHOD:PUBLISH
BEGIN:VTIMEZONE
TZID:Asia/Kuala_Lumpur
BEGIN:STANDARD
DTSTART:20240504T090000
RDATE:20380119T111407
TZOFFSETFROM:+0800
TZOFFSETTO:+0800
TZNAME:Asia/Kuala_Lumpur +08
END:STANDARD
END:VTIMEZONE
BEGIN:VEVENT
UID:a57a5c03505f35af641de1bf5f3c0041
CATEGORIES:Energy
SUMMARY:3rd Annual - ASEAN Green Hydrogen Conference 2025
LOCATION:Berjaya Times Square Hotel, Kuala Lumpur, Malaysia
DESCRIPTION;ENCODING=QUOTED-PRINTABLE:\n\n\n\n\nThe ASEAN Green Hydrogen Conference 2025 is a landmark event focu
 sed on the transformative potential of green hydrogen in revolutionizing th
 e ASEAN region’s economy. This premier conference brings together a diverse
  array of industry leaders, policymakers, researchers, and stakeholders to 
 engage in meaningful dialogue, share cutting-edge research, and forge strat
 egic partnerships.\n\n\nAttendees will explore innovative solutions and bes
 t practices, aiming to accelerate the adoption of green hydrogen technologi
 es and drive sustainable economic growth.\n\n\n \n\n\nWebsite: https://asea
 ngh2.com/\n
CONTACT:FREE MAP DISTRIBUTION
X-EXTRAINFO:https://aseangh2.com/
DTSTAMP:20260421T123436Z
DTSTART;TZID=Asia/Kuala_Lumpur:20250505T090000
DTEND;TZID=Asia/Kuala_Lumpur:20250506T170000
SEQUENCE:0
TRANSP:OPAQUE
END:VEVENT
END:VCALENDAR