BEGIN:VCALENDAR
VERSION:2.0
PRODID:-//jEvents 2.0 for Joomla//EN
CALSCALE:GREGORIAN
METHOD:PUBLISH
BEGIN:VTIMEZONE
TZID:Asia/Kuala_Lumpur
BEGIN:STANDARD
DTSTART:20240408T080000
RDATE:20380119T111407
TZOFFSETFROM:+0800
TZOFFSETTO:+0800
TZNAME:Asia/Kuala_Lumpur +08
END:STANDARD
END:VTIMEZONE
BEGIN:VEVENT
UID:bd5237f8c77d3f3229e6de1c52b18ee4
CATEGORIES:Renewable Energy
SUMMARY:Solar & Storage Live Malaysia 2025
LOCATION:MITEC, Kuala Lumpur, Malaysia
DESCRIPTION;ENCODING=QUOTED-PRINTABLE:POWERING MALAYSIA’S ENERGY FUTURE\nSolar & Storage Live Malaysia 2025, the 
 latest addition to the world's largest portfolio of clean energy events, wi
 ll be a forward-thinking, challenging, and exciting renewable energy exhibi
 tion that celebrates the technologies at the forefront of the transition to
  a greener, smarter, and more decentralised energy system for Malaysia.\nTh
 e only event dedicated to the enormous potential of solar, energy storage a
 nd smart energy to power Malaysia's future, we bring our expertise running 
 the largest renewable energy events in the Philippines, Vietnam, Thailand a
 nd beyond to help power a cleaner energy future for Malaysia.\nIn April 202
 5, you can expect:\n\n - 5 free-to-attend tracks of content across 3 theatr
 es covering Large Scale Solar, Commercial & Industrial Solar, Solar Install
 er University, Residential Solar and Energy Storage.\n - 100+ speakers shar
 ing their insights.\n - 150+ exhibitors showcasing the best solar, energy s
 torage, grid and smart energy solutions available from across Asia.\n - 2,5
 00+ attendees looking to invest in solutions now
CONTACT:FREE MAP DISTRIBUTION
DTSTAMP:20260421T094345Z
DTSTART;TZID=Asia/Kuala_Lumpur:20250409T080000
DTEND;TZID=Asia/Kuala_Lumpur:20250410T170000
SEQUENCE:0
TRANSP:OPAQUE
END:VEVENT
END:VCALENDAR