BEGIN:VCALENDAR
VERSION:2.0
PRODID:-//jEvents 2.0 for Joomla//EN
CALSCALE:GREGORIAN
METHOD:PUBLISH
BEGIN:VTIMEZONE
TZID:Asia/Kuala_Lumpur
BEGIN:STANDARD
DTSTART:20140125T000000
RDATE:20380119T111407
TZOFFSETFROM:+0800
TZOFFSETTO:+0800
TZNAME:Asia/Kuala_Lumpur +08
END:STANDARD
END:VTIMEZONE
BEGIN:VEVENT
UID:6c1f91517d41b6a9b27344ca18c45e07
CATEGORIES:Maritime 
SUMMARY:Advanced Shipyard & Marine Inspection, Commissioning and Handover Delivery
LOCATION:Kuala Lumpur, Malaysia
DESCRIPTION;ENCODING=QUOTED-PRINTABLE:\n\n Advanced Shipyard & Marine Inspection, Commissioning and Handover Deli
 very is an intensive course which will help shipbuilding projects teams to 
 improve their management practices within shipyard or with vendors, to meet
  their targets in respect of contracting, delivery of the units or ships in
  planned time and without problems. It will also focus on best practice tec
 hnical and commercial solutions during the project to the operational perfo
 rmance of the units to help the commissioning team of engineers representin
 g owners, shipyard or vendors, to check the construction, outstanding work 
 and operational performance of the unit.\n
CONTACT:FREE MAP DISTRIBUTION
DTSTAMP:20260421T125929Z
DTSTART;TZID=Asia/Kuala_Lumpur;VALUE=DATE:20150126
DTEND;TZID=Asia/Kuala_Lumpur;VALUE=DATE:20150131
SEQUENCE:0
TRANSP:OPAQUE
END:VEVENT
END:VCALENDAR