BEGIN:VCALENDAR
VERSION:2.0
PRODID:-//jEvents 2.0 for Joomla//EN
CALSCALE:GREGORIAN
METHOD:PUBLISH
BEGIN:VTIMEZONE
TZID:Asia/Kuala_Lumpur
BEGIN:STANDARD
DTSTART:20230625T080000
RDATE:20380119T111407
TZOFFSETFROM:+0800
TZOFFSETTO:+0800
TZNAME:Asia/Kuala_Lumpur +08
END:STANDARD
END:VTIMEZONE
BEGIN:VEVENT
UID:220501f4a2d6623875f58dd08a60040f
CATEGORIES:Energy
SUMMARY:3RD ANNUAL CLEAN POWER & NEW ENERGY SUMMIT 2024 
LOCATION:M Resort & Hotel, Kuala Lumpur, Malaysia
DESCRIPTION;ENCODING=QUOTED-PRINTABLE:\n\n\n\n\n3RD ANNUAL CLEAN POWER & NEW ENERGY 2024.\nJoin our impressive li
 ne-up of experts who will share their insights and knowledge on achieving n
 et zero emissions, the fast tracking of energy transition, and the latest a
 dvancements and opportunities in renewable energy.\nThemed “TRIPLING RENEWA
 BLE POWER & DOUBLING ENERGY EFFICIENCY BY 2030”, this exclusive event will 
 bring together +1000 top energy professionals, Industry key players policym
 akers, Energy producer and solution providers spearheading the Energy Trans
 ition across the world. \nTopics of discussion will include the emergence o
 f green hydrogen, the future of electric vehicles, the latest developments 
 in solar and wind energy, as well as the breakthroughs in energy storages t
 hrough energy efficiencies, embarking attendees on a comprehensive explorat
 ion of the latest advances and strategies shaping the clean energy landscap
 e. From cutting-edge renewable energy technologies to innovative financing 
 models and regulatory frameworks, every aspect of the transition to cleaner
 , more sustainable energy systems will be scrutinized.\n\n\nDon't let this 
 chance slip away, come and join us today for invaluable hands-on insights i
 nto \nEnergy. This 3rd Annual event is set to be bigger and more impactful 
 than ever. Secure your now before it's too late.\n\n Event Details:\n - Dat
 e: 25th to 27th June 2024\n - Venue: M Resort & Hotel, Kuala Lumpur\n - Reg
 ister or Brochure Request at: https://lnkd.in/d3g3bFEB\n - Event website: h
 ttps://lnkd.in/g3C3UjSb\n - Watch our previous edition here: https://lnkd.i
 n/gyCdjYnX\n \n The 3rd CPNE 2024 event is HRDF claimable. For any further 
 inquiries, feel free to contact Amina at This email address is being protec
 ted from spambots. You need JavaScript enabled to view it.
 //
  or call 60
 1112476257\n
DTSTAMP:20260421T063807Z
DTSTART;TZID=Asia/Kuala_Lumpur:20240625T080000
DTEND;TZID=Asia/Kuala_Lumpur:20240627T170000
SEQUENCE:0
TRANSP:OPAQUE
END:VEVENT
END:VCALENDAR