BEGIN:VCALENDAR
VERSION:2.0
PRODID:-//jEvents 2.0 for Joomla//EN
CALSCALE:GREGORIAN
METHOD:PUBLISH
BEGIN:VTIMEZONE
TZID:Asia/Kuala_Lumpur
BEGIN:STANDARD
DTSTART:20230218T080000
RDATE:20380119T111407
TZOFFSETFROM:+0800
TZOFFSETTO:+0800
TZNAME:Asia/Kuala_Lumpur +08
END:STANDARD
END:VTIMEZONE
BEGIN:VEVENT
UID:3731738e6781cf5368f4dfb97f1425c7
CATEGORIES:Energy
SUMMARY:Egypt Energy Show (EGYPES) 2024
LOCATION:Cairo, Egypt
DESCRIPTION;ENCODING=QUOTED-PRINTABLE:\n\nThe 7th edition of the Egypt Energy Show is the largest oil, gas, and e
 nergy exhibition in the North African and Mediterranean region. It will tak
 e place from 19 – 21 February 2024 at the Egypt International Exhibition Ce
 nter in Cairo. The event is held under the patronage and participation of H
 is Excellency Abdel Fattah El Sisi, the President of the Arab Republic of E
 gypt. This prestigious gathering will bring together over 35,000 energy sta
 keholders from across the entire energy value chain, all keen to explore bu
 siness opportunities in Egypt and North Africa. EGYPES serves as a platform
  for face-to-face interactions between industry leaders, key project owners
 , decision-makers, NOCs, IOCs, international service providers, EPC contrac
 tors, consultants, and financiers. You can find more information about the 
 event on our website www.egypes.com\n
X-EXTRAINFO:https://www.egypes.com/
DTSTAMP:20260421T063811Z
DTSTART;TZID=Asia/Kuala_Lumpur:20240219T080000
DTEND;TZID=Asia/Kuala_Lumpur:20240221T170000
SEQUENCE:0
TRANSP:OPAQUE
END:VEVENT
END:VCALENDAR