BEGIN:VCALENDAR
VERSION:2.0
PRODID:-//jEvents 2.0 for Joomla//EN
CALSCALE:GREGORIAN
METHOD:PUBLISH
BEGIN:VTIMEZONE
TZID:Asia/Kuala_Lumpur
BEGIN:STANDARD
DTSTART:20230508T080000
RDATE:20380119T111407
TZOFFSETFROM:+0800
TZOFFSETTO:+0800
TZNAME:Asia/Kuala_Lumpur +08
END:STANDARD
END:VTIMEZONE
BEGIN:VEVENT
UID:b0672337d88f8cd5db7f009f9d2bcf43
CATEGORIES:Oil & Gas
SUMMARY:18th Edition of Pakistan Oil & Gas Energy Exhibition (POGEE) 2024
LOCATION:Expo Centre Lahore, Pakistan
DESCRIPTION;ENCODING=QUOTED-PRINTABLE:
X-EXTRAINFO:https://pogeepakistan.com/
DTSTAMP:20260421T064516Z
DTSTART;TZID=Asia/Kuala_Lumpur:20240508T080000
DTEND;TZID=Asia/Kuala_Lumpur:20240510T170000
SEQUENCE:0
TRANSP:OPAQUE
END:VEVENT
END:VCALENDAR