BEGIN:VCALENDAR
VERSION:2.0
PRODID:-//jEvents 2.0 for Joomla//EN
CALSCALE:GREGORIAN
METHOD:PUBLISH
BEGIN:VTIMEZONE
TZID:Asia/Kuala_Lumpur
BEGIN:STANDARD
DTSTART:20230603T080000
RDATE:20380119T111407
TZOFFSETFROM:+0800
TZOFFSETTO:+0800
TZNAME:Asia/Kuala_Lumpur +08
END:STANDARD
END:VTIMEZONE
BEGIN:VEVENT
UID:8ed13ca9d52625f7220df4f1dfaffa56
CATEGORIES:Energy
SUMMARY:Japan Energy Summit & Exhibition 2024
LOCATION:Japan
DESCRIPTION;ENCODING=QUOTED-PRINTABLE:
X-EXTRAINFO:https://www.japanenergyevent.com/
DTSTAMP:20260421T063805Z
DTSTART;TZID=Asia/Kuala_Lumpur:20240603T080000
DTEND;TZID=Asia/Kuala_Lumpur:20240605T170000
SEQUENCE:0
TRANSP:OPAQUE
END:VEVENT
END:VCALENDAR