BEGIN:VCALENDAR
VERSION:2.0
PRODID:-//jEvents 2.0 for Joomla//EN
CALSCALE:GREGORIAN
METHOD:PUBLISH
BEGIN:VTIMEZONE
TZID:Asia/Kuala_Lumpur
BEGIN:STANDARD
DTSTART:20230808T080000
RDATE:20380119T111407
TZOFFSETFROM:+0800
TZOFFSETTO:+0800
TZNAME:Asia/Kuala_Lumpur +08
END:STANDARD
END:VTIMEZONE
BEGIN:VEVENT
UID:f13abefd33edf1de533b68fba1e9b11e
CATEGORIES:Energy
SUMMARY:World Hydrogen Energy Industry Expo (WHE 2024)
LOCATION:China Import & Export Fair Complex, Guangzhou, China
DESCRIPTION;ENCODING=QUOTED-PRINTABLE:China Pushes for a Green Hydrogen Future\nChina targets to bring 50,000 hyd
 rogen fuel-cell vehicles on the road by 2025 and to build 1000 hydrogen ref
 ueling stations. Currently, the five pilot city groups, which are centered 
 in Beijing, Shanghai, Guangdong, Henan and Hebei, cover a total of 47 citie
 s. From 2018-2022, Guangdong has been the province with the biggest number 
 of hydrogen-related companies in business and the fastest growth of new com
 panies. \n\n\n \n\n\nPreview of WHE 2024\n\n\nWHE 2024 and the 2024 World B
 attery & Energy Storage Industry Expo (WBE) will be held side by side once 
 again, with a collective show space going up to a gigantic 165,000 sq.m to 
 co-host over 2000 exhibiting companies, of which an estimated 460 will be h
 ydrogen energy related. WHE 2024 will cover the entire hydrogen energy valu
 e chain, from infrastructure, fuel cells, vital components, materials, fuel
  cell vehicle manufacturing, and industry cooperation to the production, st
 orage, transportation and application of hydrogen. \n\n\n \nReview of WHE 2
 023\nThe first edition of WHE successfully took place from Aug. 8th to 10th
 , 2023 at China Import and Export Fair Complex, under the same roof as the 
 2024 World Battery & Energy Storage Industry Expo. Together, these two show
 s cover 100,000 sq.m of floor area, attracted over 1200 exhibitors and coun
 ted over 137,500 visits.\nUp to 230 leading hydrogen energy solution provid
 ers made their debut, such as Sinosynergy, SinoHyKey, Sino-Science Hydrogen
 , Wise Drive, Vision, Yundao Hydrogen, Hynovation, Feichi Technology, Pearl
  Hydrogen, HITS, Youon, Toyota, Shuntian, Jieshun, Hydrogen Aviation, Senro
 ng, etc. \nMany prestigious trade bodies joined the show with their members
 , including Guangzhou Hydrogen Energy and Integrated Smart Energy Industry 
 Development Federation, Guangzhou Hydrogen Fuel Cell Industry Innovation Co
 nsortium, Foshan Hydrogen Energy Industry Association, Shenzhen Hydrogen En
 ergy and Fuel Cell Association, Inner Mongolia Hydrogen Energy Industry Ass
 ociation and so on.\n\n\nAttended by over 200 delegates from leading intern
 ational organizations, state agencies, research institutes, industry associ
 ations, universities, corporations, etc. the 2023 World Hydrogen Industry C
 onference was aimed to explore the unique hydrogen energy development of th
 e Greater Bay Area. \n\n\n \nExhibitor Profile\nHydrogen energy related sol
 utions, fuel cell systems, key fuel cell components and technologies, equip
 ment and technologies for hydrogen production, supply, transportation and r
 efueling, instruments and tools for testing and analysis, hydrogen technolo
 gies for daily life, etc.\n\n\n \nTarget Visitors by Sector\n(1) Hydrogen e
 nergy vehicles, buses, cargo vehicles, tractors, forklifts, drones, etc.;\n
 (2) Hydrogen manufacturing, trading, investment, finance, etc.;\n(3) Energy
 , electric power, energy storage, shipbuilding, military industry, aerospac
 e, equipment manufacturing, healthcare, environmental protection, etc.;\n(4
 ) Fuel cells, hydrogen fueling station, petroleum and petrochemicals, natur
 al gas, nuclear power, industrial gases, coking, boilers, etc.;\n(5) Passen
 ger transport, bus, transportation, logistics, etc.;\n(6) Government agenci
 es, research institutes, importers, exporters, distributors, agents, dealer
 s, etc.\n\n\n \n\n\nFor exhibitor/visitor registration, please contact us\n
 \n\n \n\n\nGuangzhou Honest Exhibition Co., Ltd\n\n\nContact person: Janee 
 Leung\n\n\nE-mail: This email address is being protected from spambots. You
  need JavaScript enabled to view it.
 //
 \n\n\nMobile:0086 18565157550\n\n
 \nWebsite: http://en.wh2e-expo.com\n
X-EXTRAINFO:http://en.wh2e-expo.com/
DTSTAMP:20260421T110534Z
DTSTART;TZID=Asia/Kuala_Lumpur:20240808T080000
DTEND;TZID=Asia/Kuala_Lumpur:20240810T170000
SEQUENCE:0
TRANSP:OPAQUE
END:VEVENT
END:VCALENDAR