BEGIN:VCALENDAR
VERSION:2.0
PRODID:-//jEvents 2.0 for Joomla//EN
CALSCALE:GREGORIAN
METHOD:PUBLISH
BEGIN:VTIMEZONE
TZID:Asia/Kuala_Lumpur
BEGIN:STANDARD
DTSTART:20230808T080000
RDATE:20380119T111407
TZOFFSETFROM:+0800
TZOFFSETTO:+0800
TZNAME:Asia/Kuala_Lumpur +08
END:STANDARD
END:VTIMEZONE
BEGIN:VEVENT
UID:71043035b9ac7ab0b8302f80fb72e835
CATEGORIES:Energy
SUMMARY:World Battery & Energy Storage Industry Expo (WBE) 2024
LOCATION:China Import & Export Fair Complex, Guangzhou, China
DESCRIPTION;ENCODING=QUOTED-PRINTABLE:\n\n\n\n\nReview of WBE 2023\n\n\nOrganized by Guangzhou Honest Exhibition 
 Co., Ltd, the 8th World Battery & Energy Storage Industry Expo (WBE 2023) w
 as successfully held this August 8th-10th at Area A, China Import and Expor
 t Fair Complex, Guangzhou.\n\n\nSpanning over 100,000 sq.m, the show occupi
 ed a total of 8 exhibition halls, setting up 3957 booths, almost double fro
 m last year. 1205 exhibiting companies joined the show. The number of batte
 ry cells, packs and energy storage solutions exhibitors amounted to 476. \n
 \n\nThe bustling three days counted 137,500 visits in total, including over
 seas buyers from over 50 countries and regions, such as the USA, Germany, K
 orea, France, Japan, UK, Sweden, Belgium, Czech Republic, Singapore, Malays
 ia, Indonesia, India, Thailand, Brazil, South Africa.\n\n\nChina Battery In
 dustry (Guangzhou) Summit, China Energy Storage Industry Ecology Conference
 , World Hydrogen Energy & Fuel Cell Industry Conference and the first-ever 
 two-day factory tour program constituted the biggest highlights of WBE 2023
 .\n\n\n \n\n\nPreview of WBE 2024\n\n\nWBE will strive to break its own sho
 w size record again in 2024, expecting to occupy a total of 13 exhibition h
 alls, amounting to 165,000 sq.m to bring together an estimated 2000+ premiu
 m exhibitors.   \n\n\nGiving overseas buyers a first-hand and in-depth look
  at China’s leading battery and battery equipment manufacturers, the highly
  recommended two-day factory tour program will make a grand comeback in 202
 4. We look forward to the active participation of more overseas visitors!\n
 \n\n \n\n\nLive Events & Activities of WBE 2024\n\n\n2024 China Battery Ind
 ustry (Guangzhou) Summit \n\n\n2024 China Energy Storage Industry Ecology C
 onference\n\n\n2024 World Hydrogen Energy Industry Conference \n\n\n2024 Tw
 o-Day Factory Tour Program\n\n\n \n\n\nExhibitor Profile\n\n - All kinds of
  Batteries, Battery pack & cell, BMS\n - Energy Storage Products \n - Batte
 ry Charging & Swapping products\n - Raw Material and Components for all kin
 ds of batteries\n - Battery manufacturing equipment, testing equipment and 
 instrument\n - Battery recycling and international logistics\n - Hydrogen e
 nergy and hydrogen energy application area\n\nBooth reservation for WBE 202
 4 is now open. Please don’t hesitate to contact us. \n\n\n \n\n\nContact us
  \n\n\nGuangzhou Honest Exhibition Co., Ltd\n\n\nContact person: Natalia\n\
 n\nMobile: +86 18565156106\nE-mail: This email address is being protected f
 rom spambots. You need JavaScript enabled to view it.
 //
 \n
X-EXTRAINFO:https://en.battery-expo.com/
DTSTAMP:20260421T110613Z
DTSTART;TZID=Asia/Kuala_Lumpur:20240808T080000
DTEND;TZID=Asia/Kuala_Lumpur:20240810T170000
SEQUENCE:0
TRANSP:OPAQUE
END:VEVENT
END:VCALENDAR