BEGIN:VCALENDAR
VERSION:2.0
PRODID:-//jEvents 2.0 for Joomla//EN
CALSCALE:GREGORIAN
METHOD:PUBLISH
BEGIN:VTIMEZONE
TZID:Asia/Kuala_Lumpur
BEGIN:STANDARD
DTSTART:20230304T080000
RDATE:20380119T111407
TZOFFSETFROM:+0800
TZOFFSETTO:+0800
TZNAME:Asia/Kuala_Lumpur +08
END:STANDARD
END:VTIMEZONE
BEGIN:VEVENT
UID:f15086910c4297a512c5d9373b0d0cc4
CATEGORIES:Energy
SUMMARY:HSE Energy & Utilities Forum 2024
LOCATION:Sheraton in Dammam, Saudi Arabia
DESCRIPTION;ENCODING=QUOTED-PRINTABLE:
X-EXTRAINFO:https://hseenergyandutilitiesforum.com/
DTSTAMP:20260421T064516Z
DTSTART;TZID=Asia/Kuala_Lumpur:20240304T080000
DTEND;TZID=Asia/Kuala_Lumpur:20240305T170000
SEQUENCE:0
TRANSP:OPAQUE
END:VEVENT
END:VCALENDAR