BEGIN:VCALENDAR
VERSION:2.0
PRODID:-//jEvents 2.0 for Joomla//EN
CALSCALE:GREGORIAN
METHOD:PUBLISH
BEGIN:VTIMEZONE
TZID:Asia/Kuala_Lumpur
BEGIN:STANDARD
DTSTART:20231126T080000
RDATE:20380119T111407
TZOFFSETFROM:+0800
TZOFFSETTO:+0800
TZNAME:Asia/Kuala_Lumpur +08
END:STANDARD
END:VTIMEZONE
BEGIN:VEVENT
UID:bff17df67c45f56071b2e877c5424307
CATEGORIES:Renewable Energy
SUMMARY:APAC Wind Energy Summit 2024
LOCATION:Songdo Convensia in Incheon, South Korea
DESCRIPTION;ENCODING=QUOTED-PRINTABLE:
X-EXTRAINFO:https://gwec.net/apac-wind-energy-summit-2024/
DTSTAMP:20260421T063831Z
DTSTART;TZID=Asia/Kuala_Lumpur:20241126T080000
DTEND;TZID=Asia/Kuala_Lumpur:20241128T170000
SEQUENCE:0
TRANSP:OPAQUE
END:VEVENT
END:VCALENDAR