BEGIN:VCALENDAR
VERSION:2.0
PRODID:-//jEvents 2.0 for Joomla//EN
CALSCALE:GREGORIAN
METHOD:PUBLISH
BEGIN:VTIMEZONE
TZID:Asia/Kuala_Lumpur
BEGIN:STANDARD
DTSTART:20231008T080000
RDATE:20380119T111407
TZOFFSETFROM:+0800
TZOFFSETTO:+0800
TZNAME:Asia/Kuala_Lumpur +08
END:STANDARD
END:VTIMEZONE
BEGIN:VEVENT
UID:445c61326b4e472010e9a7bd4b2e098c
CATEGORIES:Energy
SUMMARY:Enlit Asia 2024
LOCATION:Kuala Lumpur, Malaysia
DESCRIPTION;ENCODING=QUOTED-PRINTABLE:\n\nRegister here\nWe are proud to announce that the Ministry of Energy Tra
 nsition and Water Transformation has come on board as a Supporting Ministry
  as well as Tenaga Nasional Berhad (TNB) as our official utility partner\nI
 n addition, Enlit Asia is now HRD Corp Claimable, allowing delegates to enj
 oy exclusive discounts when attending the summit. \n\n\nOur lineup continue
 s to grow with more key exhibitors and speakers. We’re excited to welcome S
 arawak Energy to our exhibitor list, and on Day 1, the CEO of TNB, Datuk Me
 gat Jalaluddin Megat Hassan, will be one of our distinguished keynote speak
 ers, sharing his vision on the future of energy in Asia.\n
CONTACT:FREE MAP DISTRIBUTION
X-EXTRAINFO:https://www.enlit-asia.com/
DTSTAMP:20260421T063807Z
DTSTART;TZID=Asia/Kuala_Lumpur:20241008T080000
DTEND;TZID=Asia/Kuala_Lumpur:20241010T170000
SEQUENCE:0
TRANSP:OPAQUE
END:VEVENT
END:VCALENDAR