BEGIN:VCALENDAR
VERSION:2.0
PRODID:-//jEvents 2.0 for Joomla//EN
CALSCALE:GREGORIAN
METHOD:PUBLISH
BEGIN:VTIMEZONE
TZID:Asia/Kuala_Lumpur
BEGIN:STANDARD
DTSTART:20230619T080000
RDATE:20380119T111407
TZOFFSETFROM:+0800
TZOFFSETTO:+0800
TZNAME:Asia/Kuala_Lumpur +08
END:STANDARD
END:VTIMEZONE
BEGIN:VEVENT
UID:e8d6eb232f92e848d940fa449bb3ad7e
CATEGORIES:Maritime 
SUMMARY:PhilMarine Expo 2024
LOCATION:SMX Convention Centre Manila, Pasay City, Philippines
DESCRIPTION;ENCODING=QUOTED-PRINTABLE:
X-EXTRAINFO:https://philmarine.com/
DTSTAMP:20260421T064515Z
DTSTART;TZID=Asia/Kuala_Lumpur:20240619T080000
DTEND;TZID=Asia/Kuala_Lumpur:20240621T170000
SEQUENCE:0
TRANSP:OPAQUE
END:VEVENT
END:VCALENDAR