BEGIN:VCALENDAR
VERSION:2.0
PRODID:-//jEvents 2.0 for Joomla//EN
CALSCALE:GREGORIAN
METHOD:PUBLISH
BEGIN:VTIMEZONE
TZID:Asia/Kuala_Lumpur
BEGIN:STANDARD
DTSTART:20240518T080000
RDATE:20380119T111407
TZOFFSETFROM:+0800
TZOFFSETTO:+0800
TZNAME:Asia/Kuala_Lumpur +08
END:STANDARD
END:VTIMEZONE
BEGIN:VEVENT
UID:fdf7bc7a5a315595660156fbb48c6f3d
CATEGORIES:Oil & Gas
SUMMARY:WGC 2025
LOCATION:Beijing, China
DESCRIPTION;ENCODING=QUOTED-PRINTABLE:\n\n\nWelcome to the 29th World Gas Conference (WGC2025), a global converge
 nce of leading minds, innovators, and influencers across the entire gas and
  energy value chain. Taking place on 19 to 23 May 2025, in the vibrant city
  of Beijing, China, this world-class conference and exhibition is set to be
  a pivotal moment in Energising a Sustainable Future shaping the future of 
 clean energy, innovation, and sustainable solutions.\nDon't miss this unpar
 alleled opportunity to be part of the conversation defining the energy land
 scape. Register your Early Bird delegate pass today and get ready to be at 
 the forefront of this transformation. \n\n\n \n\n\nRegister Your Delegate P
 ass\n\n\n \n
CONTACT:FREE MAP DISTRIBUTION
X-EXTRAINFO:https://www.wgc2025.com/
DTSTAMP:20260421T110530Z
DTSTART;TZID=Asia/Kuala_Lumpur:20250519T080000
DTEND;TZID=Asia/Kuala_Lumpur:20250523T170000
SEQUENCE:0
TRANSP:OPAQUE
END:VEVENT
END:VCALENDAR