BEGIN:VCALENDAR
VERSION:2.0
PRODID:-//jEvents 2.0 for Joomla//EN
CALSCALE:GREGORIAN
METHOD:PUBLISH
BEGIN:VTIMEZONE
TZID:Asia/Kuala_Lumpur
BEGIN:STANDARD
DTSTART:20231119T080000
RDATE:20380119T111407
TZOFFSETFROM:+0800
TZOFFSETTO:+0800
TZNAME:Asia/Kuala_Lumpur +08
END:STANDARD
END:VTIMEZONE
BEGIN:VEVENT
UID:0644b8c6f6aa9377860fb2a0a4ca2255
CATEGORIES:Oil & Gas
SUMMARY:OSEA 2024
LOCATION:Singapore
DESCRIPTION;ENCODING=QUOTED-PRINTABLE:
CONTACT:FREE MAP DISTRIBUTION
X-EXTRAINFO:https://www.osea-asia.com/
DTSTAMP:20260421T063808Z
DTSTART;TZID=Asia/Kuala_Lumpur:20241119T080000
DTEND;TZID=Asia/Kuala_Lumpur:20241121T170000
SEQUENCE:0
TRANSP:OPAQUE
END:VEVENT
END:VCALENDAR