BEGIN:VCALENDAR
VERSION:2.0
PRODID:-//jEvents 2.0 for Joomla//EN
CALSCALE:GREGORIAN
METHOD:PUBLISH
BEGIN:VTIMEZONE
TZID:Asia/Kuala_Lumpur
BEGIN:STANDARD
DTSTART:20230925T080000
RDATE:20380119T111407
TZOFFSETFROM:+0800
TZOFFSETTO:+0800
TZNAME:Asia/Kuala_Lumpur +08
END:STANDARD
END:VTIMEZONE
BEGIN:VEVENT
UID:6d966dc85f226384e9793b060e87aecc
CATEGORIES:Oil & Gas
SUMMARY:OGA 2024
LOCATION:Kuala Lumpur, Malaysia
DESCRIPTION;ENCODING=QUOTED-PRINTABLE:\n\n Established in 1987, Oil & Gas Asia (OGA) is recognised as one of the 
 region’s most influential and successful energy events, showcasing thRegist
 er heree latest technologies in fields of exploration, production and trans
 portation within the Oil, Gas, Energy and Petrochemicals industry. Attracti
 ng a recorded average of over 2,000 participating companies and 25,000 visi
 tors per edition, OGA represents a convergence of the industry throughout t
 he ASEAN region, enabling businesses to forge essential partnerships and fo
 ster a sustainable business ecosystem. \n\n\nCollaborating with the Malaysi
 an Petrochemicals Association (MPA), OGA hosts the 2nd Petrochemicals Susta
 inability Conference (PSC), It promotes knowledge sharing among industry le
 aders and focuses on a sustainable future in petrochemicals. PSC 2024 shape
 s a sustainable future through technology, partnerships, and addressing cli
 mate challenges.\n\n\nOGA 2024 will be partnering with the Malaysian Oil, G
 as & Energy Services Council (MOGSC) for the 7th Malaysia Oil & Gas Service
 s Exhibition & Conference (MOGSEC) to explore the strength of Malaysia's OG
 SE sector, which has played a crucial role in the nation's development. \n\
 n\nThe 20th Anniversary Edition of OGA takes place on 25-27 September 2024,
  at the Kuala Lumpur Convention Centre, bringing together industry leaders,
  policymakers, and innovators to drive transformative change and propel the
  energy value chain.\n\n\nPre-Register Now: https://bit.ly/OGA24_Reg\n\n\nF
 or more information, please visit www.oilandgas-asia.com\n
CONTACT:FREE MAP DISTRIBUTION #BOOTH 6009-6010
X-EXTRAINFO:https://www.oilandgas-asia.com/
DTSTAMP:20260421T080601Z
DTSTART;TZID=Asia/Kuala_Lumpur:20240925T080000
DTEND;TZID=Asia/Kuala_Lumpur:20240927T170000
SEQUENCE:0
TRANSP:OPAQUE
END:VEVENT
END:VCALENDAR