BEGIN:VCALENDAR
VERSION:2.0
PRODID:-//jEvents 2.0 for Joomla//EN
CALSCALE:GREGORIAN
METHOD:PUBLISH
BEGIN:VTIMEZONE
TZID:Asia/Kuala_Lumpur
BEGIN:STANDARD
DTSTART:20230917T080000
RDATE:20380119T111407
TZOFFSETFROM:+0800
TZOFFSETTO:+0800
TZNAME:Asia/Kuala_Lumpur +08
END:STANDARD
END:VTIMEZONE
BEGIN:VEVENT
UID:b819ccc3d81ec8b86bcbc5fd0f925b42
CATEGORIES:Oil & Gas
SUMMARY:Gastech 2024
LOCATION:Houston, USA
DESCRIPTION;ENCODING=QUOTED-PRINTABLE:
CONTACT:FREE MAP DISTRIBUTION
X-EXTRAINFO:https://www.gastechevent.com/
DTSTAMP:20260421T063805Z
DTSTART;TZID=Asia/Kuala_Lumpur:20240917T080000
DTEND;TZID=Asia/Kuala_Lumpur:20240920T170000
SEQUENCE:0
TRANSP:OPAQUE
END:VEVENT
END:VCALENDAR