BEGIN:VCALENDAR
VERSION:2.0
PRODID:-//jEvents 2.0 for Joomla//EN
CALSCALE:GREGORIAN
METHOD:PUBLISH
BEGIN:VTIMEZONE
TZID:Asia/Kuala_Lumpur
BEGIN:STANDARD
DTSTART:20230730T080000
RDATE:20380119T111407
TZOFFSETFROM:+0800
TZOFFSETTO:+0800
TZNAME:Asia/Kuala_Lumpur +08
END:STANDARD
END:VTIMEZONE
BEGIN:VEVENT
UID:83fdb16a754c0a235ecbc3229a5dd08f
CATEGORIES:Maritime 
SUMMARY:Inamarine 2024
LOCATION:Jakarta, Indonesia
DESCRIPTION;ENCODING=QUOTED-PRINTABLE:\n\n\n
CONTACT:FREE MAP DISTRIBUTION
X-EXTRAINFO:https://inamarine-exhibition.net/exhibition/
DTSTAMP:20260421T063812Z
DTSTART;TZID=Asia/Kuala_Lumpur:20240730T080000
DTEND;TZID=Asia/Kuala_Lumpur:20240801T170000
SEQUENCE:0
TRANSP:OPAQUE
END:VEVENT
END:VCALENDAR