BEGIN:VCALENDAR
VERSION:2.0
PRODID:-//jEvents 2.0 for Joomla//EN
CALSCALE:GREGORIAN
METHOD:PUBLISH
BEGIN:VTIMEZONE
TZID:Asia/Kuala_Lumpur
BEGIN:STANDARD
DTSTART:20230611T080000
RDATE:20380119T111407
TZOFFSETFROM:+0800
TZOFFSETTO:+0800
TZNAME:Asia/Kuala_Lumpur +08
END:STANDARD
END:VTIMEZONE
BEGIN:VEVENT
UID:11f0673ca2d86d55c3df3268c72e73a0
CATEGORIES:Energy
SUMMARY:Asia Pacific Green Hydrogen (APGH) 2024
LOCATION:Sarawak, Malaysia
DESCRIPTION;ENCODING=QUOTED-PRINTABLE:\n\n\n\n\nThe Asia Pacific Green Hydrogen Conference & Exhibition (APGH) 20
 24 has been strategically organized as a home-grown event to establish Sara
 wak as a leader in the Green Hydrogen Economy.\n\n\nThe primary goal of APG
 H is to attract investors, collaborators, industry partners, researchers, a
 nd delegates who are interested in fostering the growth of green hydrogen a
 nd renewable energy-related businesses and industries. This conference and 
 exhibition will serve as a beneficial platform and facilitator for partners
 hips between the government and investors, as well as between the governmen
 t and private sector, ensuring mutual benefits. The ultimate aim of APGH is
  to align with Sarawak’s vision and objectives of achieving Economic Prospe
 rity, Environmental Sustainability, and an Inclusive Society by driving the
  success of this event.\n
X-EXTRAINFO:https://hydrogenapac.com/
DTSTAMP:20260421T080559Z
DTSTART;TZID=Asia/Kuala_Lumpur:20240611T080000
DTEND;TZID=Asia/Kuala_Lumpur:20240613T170000
SEQUENCE:0
TRANSP:OPAQUE
END:VEVENT
END:VCALENDAR