BEGIN:VCALENDAR
VERSION:2.0
PRODID:-//jEvents 2.0 for Joomla//EN
CALSCALE:GREGORIAN
METHOD:PUBLISH
BEGIN:VTIMEZONE
TZID:Asia/Kuala_Lumpur
BEGIN:STANDARD
DTSTART:20131217T000000
RDATE:20380119T111407
TZOFFSETFROM:+0800
TZOFFSETTO:+0800
TZNAME:Asia/Kuala_Lumpur +08
END:STANDARD
END:VTIMEZONE
BEGIN:VEVENT
UID:fe24f3c24fc190ee118d5a7e4e56f3b6
CATEGORIES:Oil & Gas
SUMMARY:Offshore E&P Summit Myanmar 2014 
LOCATION:Yangon Myanmar
DESCRIPTION;ENCODING=QUOTED-PRINTABLE:\n\nOffshore E&P Summit Myanmar 2014 will be hold form Dec 18th-19th in Yan
 gon. Offshore Myanmar 2014 is the most practical event which helps to conne
 ct the oil service companies with the exact operators and government regula
 tors.Featured topics include Government Regulatory and Myanmar Offshore Lan
 dscape, Investment Issues and Current Owned Operators’ Experience Sharing, 
 Deepwater E&P Challenges Collection and Solving Solutions and Infrastructur
 e, Technology and Innovation is a Must in Myanmar.Offshore E&P Summit Myanm
 ar 2014 will gather 150 industry leaders and 20 technical exhibitors during
  the 2 days event. We are particularly inviting different sectors to be inv
 olved in this event.\n
CONTACT: FREE MAP DISTRIBUTION
DTSTAMP:20260421T143722Z
DTSTART;TZID=Asia/Kuala_Lumpur;VALUE=DATE:20141218
DTEND;TZID=Asia/Kuala_Lumpur;VALUE=DATE:20141220
SEQUENCE:0
TRANSP:OPAQUE
END:VEVENT
END:VCALENDAR