BEGIN:VCALENDAR
VERSION:2.0
PRODID:-//jEvents 2.0 for Joomla//EN
CALSCALE:GREGORIAN
METHOD:PUBLISH
BEGIN:VTIMEZONE
TZID:Asia/Kuala_Lumpur
BEGIN:STANDARD
DTSTART:20230515T080000
RDATE:20380119T111407
TZOFFSETFROM:+0800
TZOFFSETTO:+0800
TZNAME:Asia/Kuala_Lumpur +08
END:STANDARD
END:VTIMEZONE
BEGIN:VEVENT
UID:85b3be3060e7659c4945aeedbfbecbd3
CATEGORIES:Energy
SUMMARY:Future Energy Asia (FEA) 2024
LOCATION:Bangkok, Thailand
DESCRIPTION;ENCODING=QUOTED-PRINTABLE:\n\n\n\n\nAbout Future Energy Asia 2024 \n\n\nFuture Energy Asia (FEA) is t
 he region’s leading energy transition forum, providing unparalleled access 
 to the government and industry leaders transforming the energy value chain,
  in Asia and across the world.\n\n\nReturning for the sixth edition in 2024
 , Future Energy Asia will once again convene international ministers, Energ
 y CEOs, policymakers, and technical experts, to analyse critical trends sha
 ping the energy landscape, drive innovations that will forge new pathways i
 n the transition to net zero, and build partnerships that will bring us clo
 ser to making energy accessible, secure, and affordable for all.\n\n\nOrgan
 ised by dmg events, Future Energy Asia will welcome over 22,000 visitors to
  the Queen Sirikit National Convention Center, Bangkok (Thailand) from 15 -
  17 May 2024. The exhibition floor will host over 350 companies from more t
 han 70 countries, showcasing the vital role that the energy sector must pla
 y in meeting global energy demands and unlocking the potential of a decarbo
 nised future.\n\n\nAdditional information\n\n\nThe global energy sector fac
 es a dual challenge in supply and demand. In the short-term, the market is 
 facing a global shortage of supply following geopolitical events that has d
 ominated 2022 and 2023, while in the medium-term the sector faces energy de
 mands due to a growing global population and continued economic development
 , a challenge that is acutely felt in Thailand and Southeast Asia.\n\n\nFut
 ure Energy Asia will provide a platform for the industry to address both of
  these challenges head-on and discuss ambitious plans to overcome immediate
  supply constraints and the challenges of scalability over the next decade.
  The sixth edition of Future Energy Asia comes at a pivotal moment for the 
 industry and the region. It will further important dialogue around Asia’s c
 ontributions to the global energy transition and shine a spotlight on the r
 egion’s ongoing decarbonisation efforts.\n
CONTACT:FREE MAP DISTRIBUTION
X-EXTRAINFO:https://www.futureenergyasia.com/
DTSTAMP:20260421T063848Z
DTSTART;TZID=Asia/Kuala_Lumpur:20240515T080000
DTEND;TZID=Asia/Kuala_Lumpur:20240517T170000
SEQUENCE:0
TRANSP:OPAQUE
END:VEVENT
END:VCALENDAR