BEGIN:VCALENDAR
VERSION:2.0
PRODID:-//jEvents 2.0 for Joomla//EN
CALSCALE:GREGORIAN
METHOD:PUBLISH
BEGIN:VTIMEZONE
TZID:Asia/Kuala_Lumpur
BEGIN:STANDARD
DTSTART:20230306T080000
RDATE:20380119T111407
TZOFFSETFROM:+0800
TZOFFSETTO:+0800
TZNAME:Asia/Kuala_Lumpur +08
END:STANDARD
END:VTIMEZONE
BEGIN:VEVENT
UID:63d9890ad5295d50172a5d2c9d97c4d0
CATEGORIES:Renewable Energy
SUMMARY:Wind Energy Asia 2024
LOCATION:Taiwan
DESCRIPTION;ENCODING=QUOTED-PRINTABLE:
X-EXTRAINFO:https://www.windenergy-asia.com/en/index.html
DTSTAMP:20260421T064516Z
DTSTART;TZID=Asia/Kuala_Lumpur:20240306T080000
DTEND;TZID=Asia/Kuala_Lumpur:20240308T170000
SEQUENCE:0
TRANSP:OPAQUE
END:VEVENT
END:VCALENDAR