BEGIN:VCALENDAR
VERSION:2.0
PRODID:-//jEvents 2.0 for Joomla//EN
CALSCALE:GREGORIAN
METHOD:PUBLISH
BEGIN:VTIMEZONE
TZID:Asia/Kuala_Lumpur
BEGIN:STANDARD
DTSTART:20220529T090000
RDATE:20380119T111407
TZOFFSETFROM:+0800
TZOFFSETTO:+0800
TZNAME:Asia/Kuala_Lumpur +08
END:STANDARD
END:VTIMEZONE
BEGIN:VEVENT
UID:fbbd46e147ce4b47231968d85012ebb9
CATEGORIES:Energy
SUMMARY:CPNE Series: World Power Plant Innovation Conference 2023
LOCATION:ROYALE CHULAN HOTEL KUALA LUMPUR
DESCRIPTION;ENCODING=QUOTED-PRINTABLE:\n\n\nResetting the Foundation of Power Plant System Today for A Better Tom
 orrow\n30TH – 31TH MAY 2023 | ROYALE CHULAN HOTEL KUALA LUMPUR\n\n Join us 
 for the largest and most exclusive networking event for power producers, ut
 ilities, EPCs, consultants, OEMs, electricity generators, energy solution p
 roviders and large-scale energy consumers.\nAs large centralized power gene
 ration business models evolve into cleaner and more sustainable energy sour
 ces, The CPNE SERIES: World Power Plant Innovation Conference 2023 brings t
 ogether energy experts from around the world to explore emerging approaches
  in this sector.\nThe purpose of this conference is to provide attendees wi
 th actionable knowledge into how Power companies can transition operations 
 and maintenance from traditional to digitally enabled. For two days, our ex
 perts will dive deep into how Tech-enabled transformation combines new tech
 nologies with traditional improvement to provide large value across four ke
 y areas: Operations; Maintenance; Energy Efficiency; and Health, Safety, Se
 curity, and Environment (HSSE). Moreover, they will discuss the latest deve
 lopments in the energy sector, share best practices, and cutting-edge energ
 y technologies to reduce the environmental impact of energy production. \nT
 his is your chance to learn successful digital transformation strategies as
  well as the most important themes to create value. Register now with HRDF 
 CLAIMABLE\nREGISTRATION LINK: https://www.mcpnewenergy.com/request.html\nOF
 FICIAL WEBSITE: https://www.mcpnewenergy.com/\n\n For further inquiries, pl
 ease reach out to Amina |+601161888699 | 
X-EXTRAINFO:https://www.mcpnewenergy.com/
DTSTAMP:20260421T050643Z
DTSTART;TZID=Asia/Kuala_Lumpur:20230530T090000
DTEND;TZID=Asia/Kuala_Lumpur:20230531T170000
SEQUENCE:0
TRANSP:OPAQUE
END:VEVENT
END:VCALENDAR