BEGIN:VCALENDAR
VERSION:2.0
PRODID:-//jEvents 2.0 for Joomla//EN
CALSCALE:GREGORIAN
METHOD:PUBLISH
BEGIN:VTIMEZONE
TZID:Asia/Kuala_Lumpur
BEGIN:STANDARD
DTSTART:20230313T080000
RDATE:20380119T111407
TZOFFSETFROM:+0800
TZOFFSETTO:+0800
TZNAME:Asia/Kuala_Lumpur +08
END:STANDARD
END:VTIMEZONE
BEGIN:VEVENT
UID:e7b3c0aa0c50dc946d6294d986da98e6
CATEGORIES:Maritime 
SUMMARY:APM 2024
LOCATION:Singapore
DESCRIPTION;ENCODING=QUOTED-PRINTABLE:\n\n\n
CONTACT:FREE MAP DISTRIBUTION
X-EXTRAINFO:https://www.apmaritime.com/?utm_source=mudrock&utm_medium=banner&utm_campai
 gn=apm2024&utm_content=Register_Now
DTSTAMP:20260421T063945Z
DTSTART;TZID=Asia/Kuala_Lumpur:20240313T080000
DTEND;TZID=Asia/Kuala_Lumpur:20240315T170000
SEQUENCE:0
TRANSP:OPAQUE
END:VEVENT
END:VCALENDAR