BEGIN:VCALENDAR
VERSION:2.0
PRODID:-//jEvents 2.0 for Joomla//EN
CALSCALE:GREGORIAN
METHOD:PUBLISH
BEGIN:VTIMEZONE
TZID:Asia/Kuala_Lumpur
BEGIN:STANDARD
DTSTART:20221001T080000
RDATE:20380119T111407
TZOFFSETFROM:+0800
TZOFFSETTO:+0800
TZNAME:Asia/Kuala_Lumpur +08
END:STANDARD
END:VTIMEZONE
BEGIN:VEVENT
UID:095b1df7745f370efebd08e7257d2063
CATEGORIES:Oil & Gas
SUMMARY:ADIPEC 2023
LOCATION:Abu Dhabi, UAE
DESCRIPTION;ENCODING=QUOTED-PRINTABLE:
CONTACT:FREE MAP DISTRIBUTION
X-EXTRAINFO:https://www.adipec.com/
DTSTAMP:20260421T051215Z
DTSTART;TZID=Asia/Kuala_Lumpur:20231002T080000
DTEND;TZID=Asia/Kuala_Lumpur:20231005T170000
SEQUENCE:0
TRANSP:OPAQUE
END:VEVENT
END:VCALENDAR