BEGIN:VCALENDAR
VERSION:2.0
PRODID:-//jEvents 2.0 for Joomla//EN
CALSCALE:GREGORIAN
METHOD:PUBLISH
BEGIN:VTIMEZONE
TZID:Asia/Kuala_Lumpur
BEGIN:STANDARD
DTSTART:20220904T080000
RDATE:20380119T111407
TZOFFSETFROM:+0800
TZOFFSETTO:+0800
TZNAME:Asia/Kuala_Lumpur +08
END:STANDARD
END:VTIMEZONE
BEGIN:VEVENT
UID:856b77eda775d1cb96c1e682b0de2532
CATEGORIES:Oil & Gas
SUMMARY:Gastech 2023
LOCATION:Singapore
DESCRIPTION;ENCODING=QUOTED-PRINTABLE:\n\n\nVisitor registration - register for your complimentary visitor passRe
 gister now to attend Gastech 2023 in Singapore, taking place 5-8 September,
  at Singapore EXPO, and join 40,000+ international energy professionals.\nR
 egister for your complimentary visitor ticket for the opportunity to meet t
 he entire energy value chain, alongside access to the latest industry knowl
 edge, technical expertise, applications, products, solutions, and services.
 \nGastech will feature over 750 exhibiting companies from over 100 countrie
 s – including NECs, IECs, EPCs, and solutions providers. Identify new busin
 ess opportunities, source new products, services, solutions and technologie
 s, and network with industry peers. Gastech provides the perfect environmen
 t to discover new technologies and innovation, strengthen existing relation
 ships, and forge new ones.\n
CONTACT:FREE MAP DISTRIBUTION at Stand 303
X-EXTRAINFO:https://www.gastechevent.com/
DTSTAMP:20260421T050618Z
DTSTART;TZID=Asia/Kuala_Lumpur:20230905T080000
DTEND;TZID=Asia/Kuala_Lumpur:20230908T170000
SEQUENCE:0
TRANSP:OPAQUE
END:VEVENT
END:VCALENDAR