BEGIN:VCALENDAR
VERSION:2.0
PRODID:-//jEvents 2.0 for Joomla//EN
CALSCALE:GREGORIAN
METHOD:PUBLISH
BEGIN:VTIMEZONE
TZID:Asia/Kuala_Lumpur
BEGIN:STANDARD
DTSTART:20220912T080000
RDATE:20380119T111407
TZOFFSETFROM:+0800
TZOFFSETTO:+0800
TZNAME:Asia/Kuala_Lumpur +08
END:STANDARD
END:VTIMEZONE
BEGIN:VEVENT
UID:3558b5725b91806efb5800f49d89afd1
CATEGORIES:Oil & Gas
SUMMARY:OGA -MOGSEC 2023
LOCATION:Kuala Lumpur, Malaysia
DESCRIPTION;ENCODING=QUOTED-PRINTABLE:\n\n\nGet ready for the most anticipated industry event of the year - Oil &
  Gas Asia (OGA) 2023!\nOGA is the premier gathering place that brings toget
 her people and technology of the industry to learn, network, and tap busine
 ss opportunities.\nDate: 13-15 September 2023 (Wednesday – Friday)\nLocatio
 n: Kuala Lumpur Convention Centre, Malaysia\nPre-register now and make the 
 most of the opportunities at OGA 2023! \nMeet exhibitors and brands from 2,
 000 companiesParticipate in interactive discussions and get policy updates 
 at Speak OGA Gather information on new products and technologies from Malay
 sian and international companiesNetwork with industry peers and corporate l
 eaders Weigh potential business and evaluate investment opportunitiesPre-Re
 gister: https://bit.ly/OGA2023-Registration\nFor More Information: https://
 bit.ly/OGA2023-Website\nWe look forward to welcoming you to Oil & Gas Asia 
 2023! \n#OGA2023 #OilandGasAsia #OGA #InternationalExhibition #Conference #
 Malaysia #OilandGasIndustry #Smart_Sustainable_Event #Oil #Gas #Energy #Pet
 rochemicals #upstream #midstream #downstream \n
CONTACT:FREE MAP DISTRIBUTION at Booth 6037
X-EXTRAINFO:https://www.oilandgas-asia.com/
DTSTAMP:20260421T050622Z
DTSTART;TZID=Asia/Kuala_Lumpur:20230913T080000
DTEND;TZID=Asia/Kuala_Lumpur:20230915T170000
SEQUENCE:0
TRANSP:OPAQUE
END:VEVENT
END:VCALENDAR