BEGIN:VCALENDAR
VERSION:2.0
PRODID:-//jEvents 2.0 for Joomla//EN
CALSCALE:GREGORIAN
METHOD:PUBLISH
BEGIN:VTIMEZONE
TZID:Asia/Kuala_Lumpur
BEGIN:STANDARD
DTSTART:20220822T080000
RDATE:20380119T111407
TZOFFSETFROM:+0800
TZOFFSETTO:+0800
TZNAME:Asia/Kuala_Lumpur +08
END:STANDARD
END:VTIMEZONE
BEGIN:VEVENT
UID:8c8cd92a87e90b86b169bfc1083cf284
CATEGORIES:Maritime 
SUMMARY:INAMARINE 2023
LOCATION:Jakarta, Indonesia
DESCRIPTION;ENCODING=QUOTED-PRINTABLE:INAMARINEis the largest and most exclusive gathering for the maritime shipp
 ing, shipbuilding, and shipyard industry. Over 500+ local and global exhibi
 ting companies will gather together on23 – 25 August 2023to explore their b
 usiness and meet and do business with their partners and supplier around th
 e world.\nAfter the big success ofINAMARINE 2022to prove as Indonesia’s Mos
 t Influential and Biggest Maritime & Offshore Event in Asia, the next editi
 on ofINAMARINE 2023 will be held on 23 – 25 August 2023 at JIExpo Kemayoran
 , Jakarta – Indonesia.\nThe show is designed to feature the latest technolo
 gy, innovations, and services for the maritime industry in supporting the M
 aritime Highway Projects (ship and seaport) infrastructure development). It
  covers the shipbuilding industry, ship-owner, offshore, seaport and termin
 al facilities, maritime transport and logistics, offshore, safety and secur
 ity in ports and shipping, and environmental protection.\n
X-EXTRAINFO:https://inamarine-exhibition.net/
DTSTAMP:20260421T050613Z
DTSTART;TZID=Asia/Kuala_Lumpur:20230823T080000
DTEND;TZID=Asia/Kuala_Lumpur:20230825T170000
SEQUENCE:0
TRANSP:OPAQUE
END:VEVENT
END:VCALENDAR