BEGIN:VCALENDAR
VERSION:2.0
PRODID:-//jEvents 2.0 for Joomla//EN
CALSCALE:GREGORIAN
METHOD:PUBLISH
BEGIN:VTIMEZONE
TZID:Asia/Kuala_Lumpur
BEGIN:STANDARD
DTSTART:20220612T080000
RDATE:20380119T111407
TZOFFSETFROM:+0800
TZOFFSETTO:+0800
TZNAME:Asia/Kuala_Lumpur +08
END:STANDARD
END:VTIMEZONE
BEGIN:VEVENT
UID:f74e97ace41b914012789924011d56d4
CATEGORIES:Energy
SUMMARY:IEW 2023
LOCATION:Kuching, Sarawak, Malaysia
DESCRIPTION;ENCODING=QUOTED-PRINTABLE:\n\nIEW 2023 - International Energy Week 2023 has returned to spur new busi
 ness opportunities. Held at the Borneo Convention Centre Kuching, (BCCK) fr
 om 13 to 15 June 2023, the Expo's fifth edition is set to be the Biggest In
 ternational Exhibition and Conference for Malaysia's energy and petroleum i
 ndustry. Hosted by the Ministry of Utilities Sarawak, the Industry Show wil
 l encompass related events such as Electro Power Asia 2023, Petroleum Asia 
 2023, Asia Infrastructure 2023 and the IEW 2023 Conference and Technology S
 ymposium. An integrated event that is sure to generate numerous opportuniti
 es for a diverse range of interested individuals and groups, IEW 2023 will 
 also highlight the development of the Sarawak Corridor of Renewable Energy 
 (SCORE), the Pan Borneo Highway project and more.\n
CONTACT:FREE MAP DISTRIBUTION at Booth A025
X-EXTRAINFO:http://www.iew.my/
DTSTAMP:20260421T050738Z
DTSTART;TZID=Asia/Kuala_Lumpur:20230613T080000
DTEND;TZID=Asia/Kuala_Lumpur:20230615T170000
SEQUENCE:0
TRANSP:OPAQUE
END:VEVENT
END:VCALENDAR