BEGIN:VCALENDAR
VERSION:2.0
PRODID:-//jEvents 2.0 for Joomla//EN
CALSCALE:GREGORIAN
METHOD:PUBLISH
BEGIN:VTIMEZONE
TZID:Asia/Kuala_Lumpur
BEGIN:STANDARD
DTSTART:20220514T080000
RDATE:20380119T111407
TZOFFSETFROM:+0800
TZOFFSETTO:+0800
TZNAME:Asia/Kuala_Lumpur +08
END:STANDARD
END:VTIMEZONE
BEGIN:VEVENT
UID:b0f3f8e80374c1b12b48f08121e27d7e
CATEGORIES:Oil & Gas
SUMMARY:APPEA 2023
LOCATION:Brisbane, Australia
DESCRIPTION;ENCODING=QUOTED-PRINTABLE:
DTSTAMP:20260421T051216Z
DTSTART;TZID=Asia/Kuala_Lumpur:20230515T080000
DTEND;TZID=Asia/Kuala_Lumpur:20230518T170000
SEQUENCE:0
TRANSP:OPAQUE
END:VEVENT
END:VCALENDAR