BEGIN:VCALENDAR
VERSION:2.0
PRODID:-//jEvents 2.0 for Joomla//EN
CALSCALE:GREGORIAN
METHOD:PUBLISH
BEGIN:VTIMEZONE
TZID:Asia/Kuala_Lumpur
BEGIN:STANDARD
DTSTART:20220319T080000
RDATE:20380119T111407
TZOFFSETFROM:+0800
TZOFFSETTO:+0800
TZNAME:Asia/Kuala_Lumpur +08
END:STANDARD
END:VTIMEZONE
BEGIN:VEVENT
UID:f6e8de55aa6b412c2c81214bdf4bf0d0
CATEGORIES:Oil & Gas
SUMMARY:Subsea Asia 2023
DESCRIPTION;ENCODING=QUOTED-PRINTABLE:<p><a href="https://www.globalunderwaterhub.com/13763/subsea-asia-2023">Sub
 sea Asia 2023</a></p>
X-EXTRAINFO:https://www.globalunderwaterhub.com/13763/subsea-asia-2023
DTSTAMP:20260421T051217Z
DTSTART;TZID=Asia/Kuala_Lumpur:20230320T080000
DTEND;TZID=Asia/Kuala_Lumpur:20230321T170000
SEQUENCE:0
TRANSP:OPAQUE
END:VEVENT
END:VCALENDAR