BEGIN:VCALENDAR
VERSION:2.0
PRODID:-//jEvents 2.0 for Joomla//EN
CALSCALE:GREGORIAN
METHOD:PUBLISH
BEGIN:VTIMEZONE
TZID:Asia/Kuala_Lumpur
BEGIN:STANDARD
DTSTART:20220212T080000
RDATE:20380119T111407
TZOFFSETFROM:+0800
TZOFFSETTO:+0800
TZNAME:Asia/Kuala_Lumpur +08
END:STANDARD
END:VTIMEZONE
BEGIN:VEVENT
UID:73877d2e2cc7572f70f9c71609c14c43
CATEGORIES:Oil & Gas
SUMMARY:GDA 2023
LOCATION:Bahrain
DESCRIPTION;ENCODING=QUOTED-PRINTABLE:\n\n\nThe GDA International Downstream Conference and Exhibition. Taking pl
 ace from 13-15 February 2023 at Exhibition World, Kingdom of Bahrain, the p
 remier downstream event addresses global business challenges to unlock oppo
 rtunities through collaboration and partnerships. \nHeld under the theme Do
 wnstream Turning Points - Capitalising on Transformation, the event will br
 ing together key players in GCC including international stakeholders from o
 perators and technology providers to policymakers and academia.\n
DTSTAMP:20260421T050614Z
DTSTART;TZID=Asia/Kuala_Lumpur:20230213T080000
DTEND;TZID=Asia/Kuala_Lumpur:20230215T170000
SEQUENCE:0
TRANSP:OPAQUE
END:VEVENT
END:VCALENDAR