BEGIN:VCALENDAR
VERSION:2.0
PRODID:-//jEvents 2.0 for Joomla//EN
CALSCALE:GREGORIAN
METHOD:PUBLISH
BEGIN:VTIMEZONE
TZID:Asia/Kuala_Lumpur
BEGIN:STANDARD
DTSTART:20220516T080000
RDATE:20380119T111407
TZOFFSETFROM:+0800
TZOFFSETTO:+0800
TZNAME:Asia/Kuala_Lumpur +08
END:STANDARD
END:VTIMEZONE
BEGIN:VEVENT
UID:6321863fe942bfd52c3a2e7f25667941
CATEGORIES:Energy
SUMMARY:FUTURE ENERGY ASIA (FEA)2023
LOCATION:Bangkok, Thailand
DESCRIPTION;ENCODING=QUOTED-PRINTABLE:\n\nFuture Energy Asia, Asia’s leading energy transition and transformation
  platform, taking place in-person at Queen Sirikit National Convention Cent
 er, Bangkok (Thailand). Convening Energy Ministers, policy makers, energy m
 ajors including NOCs and IOCs, power generation authorities, gas and LNG pl
 ayers, EPCs and project consultants, and renewable energy developers, provi
 ding an effective platform that sparks strategic and technical discussions 
 and showcases world-class energy transition innovations.\n
CONTACT:FREE MAP DISTRIBUTION
X-EXTRAINFO:https://www.futureenergyasia.com/
DTSTAMP:20260421T050649Z
DTSTART;TZID=Asia/Kuala_Lumpur:20230517T080000
DTEND;TZID=Asia/Kuala_Lumpur:20230519T170000
SEQUENCE:0
TRANSP:OPAQUE
END:VEVENT
END:VCALENDAR