BEGIN:VCALENDAR
VERSION:2.0
PRODID:-//jEvents 2.0 for Joomla//EN
CALSCALE:GREGORIAN
METHOD:PUBLISH
BEGIN:VTIMEZONE
TZID:Asia/Kuala_Lumpur
BEGIN:STANDARD
DTSTART:20220709T080000
RDATE:20380119T111407
TZOFFSETFROM:+0800
TZOFFSETTO:+0800
TZNAME:Asia/Kuala_Lumpur +08
END:STANDARD
END:VTIMEZONE
BEGIN:VEVENT
UID:33e048f674f7fea81a268cc5f5c87762
CATEGORIES:Oil & Gas
SUMMARY:The 20th International Conference & Exhibition on Liquefied Natural Gas (LNG2023)
LOCATION:Vancouver, Canada
DESCRIPTION;ENCODING=QUOTED-PRINTABLE:\n\n\nLNG2023, the industry’s pre-eminent global conference and exhibition 
 since 1968, is where the world’s LNG sector convenes every three years to c
 onnect, collaborate and do business. \nThis year’s event, featuring 250 spe
 akers and due to attract 15,000 attendees, comes to Vancouver, Canada on 10
  - 13 July 2023.\n \n At LNG2023, industry professionals will find a progra
 mme that covers every aspect of the LNG value chain including: \n\n - LNG m
 arkets, Energy Security and Decarbonisation\n - Operations and Best Practic
 e\n - Commercial Stimuli\n - Upstream/Midstream Gas Production, Processing,
  Liquefaction\n - Shipping, Marine operations and Terminals\n - Downstream 
 Infrastructure and ApplicationsVisit www.lng2023.org for more information a
 nd to register.\n
CONTACT:FREE MAP DISTRIBUTION at Stand 803
X-EXTRAINFO:https://www.lng2023.org/
DTSTAMP:20260421T050649Z
DTSTART;TZID=Asia/Kuala_Lumpur:20230710T080000
DTEND;TZID=Asia/Kuala_Lumpur:20230713T170000
SEQUENCE:0
TRANSP:OPAQUE
END:VEVENT
END:VCALENDAR