BEGIN:VCALENDAR
VERSION:2.0
PRODID:-//jEvents 2.0 for Joomla//EN
CALSCALE:GREGORIAN
METHOD:PUBLISH
BEGIN:VTIMEZONE
TZID:Asia/Kuala_Lumpur
BEGIN:STANDARD
DTSTART:20220314T080000
RDATE:20380119T111407
TZOFFSETFROM:+0800
TZOFFSETTO:+0800
TZNAME:Asia/Kuala_Lumpur +08
END:STANDARD
END:VTIMEZONE
BEGIN:VEVENT
UID:d55a1bf634f476f72caf61bc2336db8c
CATEGORIES:Oil & Gas
SUMMARY:AOG Energy 2023
LOCATION:Perth, Australia
DESCRIPTION;ENCODING=QUOTED-PRINTABLE:
X-EXTRAINFO:https://aogexpo.com.au/
DTSTAMP:20260421T050613Z
DTSTART;TZID=Asia/Kuala_Lumpur:20230315T080000
DTEND;TZID=Asia/Kuala_Lumpur:20230317T170000
SEQUENCE:0
TRANSP:OPAQUE
END:VEVENT
END:VCALENDAR