BEGIN:VCALENDAR
VERSION:2.0
PRODID:-//jEvents 2.0 for Joomla//EN
CALSCALE:GREGORIAN
METHOD:PUBLISH
BEGIN:VTIMEZONE
TZID:Asia/Kuala_Lumpur
BEGIN:STANDARD
DTSTART:20220307T080000
RDATE:20380119T111407
TZOFFSETFROM:+0800
TZOFFSETTO:+0800
TZNAME:Asia/Kuala_Lumpur +08
END:STANDARD
END:VTIMEZONE
BEGIN:VEVENT
UID:dd2356995d149ddd49e36c8c5fbc721f
CATEGORIES:Renewable Energy
SUMMARY:Wind Energy Asia (WEA) 2023
LOCATION:Taiwan
DESCRIPTION;ENCODING=QUOTED-PRINTABLE:
X-EXTRAINFO:https://www.windenergy-asia.com/en/index.html 
DTSTAMP:20260421T050623Z
DTSTART;TZID=Asia/Kuala_Lumpur:20230308T080000
DTEND;TZID=Asia/Kuala_Lumpur:20230310T170000
SEQUENCE:0
TRANSP:OPAQUE
END:VEVENT
END:VCALENDAR