BEGIN:VCALENDAR
VERSION:2.0
PRODID:-//jEvents 2.0 for Joomla//EN
CALSCALE:GREGORIAN
METHOD:PUBLISH
BEGIN:VTIMEZONE
TZID:Asia/Kuala_Lumpur
BEGIN:STANDARD
DTSTART:20210913T080000
RDATE:20380119T111407
TZOFFSETFROM:+0800
TZOFFSETTO:+0800
TZNAME:Asia/Kuala_Lumpur +08
END:STANDARD
END:VTIMEZONE
BEGIN:VEVENT
UID:a6b600fd5ba8eda1218e45f308dbab7c
CATEGORIES:Energy
SUMMARY:The 8th IIGCE 2022
LOCATION:Jakarta Convention Center, Indonesia
DESCRIPTION;ENCODING=QUOTED-PRINTABLE:\n\n\n\n\nFor the past seven years, Indonesian Geothermal Association (INAG
 A) as the premier association for the Geothermal industry in Indonesia has 
 been proud and successful to host the Indonesia International Geothermal Co
 nvention & Exhibition (IIGCE) in Jakarta Convention Center, Indonesia.\n\n\
 nIn 2020 – 2021, the COVID-19 virus clearly prevented us to hold the event 
 as usual, as there is no guarantee the safety and health of participants wi
 ll be well managed, so we bring the event virtually.\n\n\nINAGA is proud to
  host and present again The 8th Indonesia International Geothermal Conventi
 on & Exhibition (IIGCE) 2022 in conjunction with The 22nd INAGA’s Annual Sc
 ientific Meeting. The event will be held in a hybrid format on 14 – 16 Sept
 ember 2022 at the Jakarta Convention Center.\n\n\nWe enthusiastically encou
 rage you to attend this premier event of the geothermal industry in the reg
 ion and benefit from its strategic programs.\n
X-EXTRAINFO:https://iigce.com/
DTSTAMP:20260421T034450Z
DTSTART;TZID=Asia/Kuala_Lumpur:20220914T080000
DTEND;TZID=Asia/Kuala_Lumpur:20220916T170000
SEQUENCE:0
TRANSP:OPAQUE
END:VEVENT
END:VCALENDAR